BEGIN:VCALENDAR
VERSION:2.0
PRODID:-//www.rapperswil-be.ch//NONSGML kigkonsult.se ICALCREATOR_VERSION//
CALSCALE:GREGORIAN
METHOD:PUBLISH
X-WR-TIMEZONE','EUROPE/BERLIN:
BEGIN:VEVENT
UID:20260419T194108CEST-1035NkV6cE@www.rapperswil-be.ch
DTSTAMP:20260419T174108Z
DESCRIPTION:Klicken Sie auf den folgenden Link\, um weitere Informationen z
 ur Veranstaltung zu erhalten:\nhttp://www.rapperswil-be.ch/de/abfallwirtsc
 haft/abfallkalender/detail/detail.php?i=284
DTSTART:20261027T000000
LOCATION:
SUMMARY:Hauskehricht
END:VEVENT
END:VCALENDAR
