BEGIN:VCALENDAR
VERSION:2.0
PRODID:-//www.rapperswil-be.ch//NONSGML kigkonsult.se ICALCREATOR_VERSION//
CALSCALE:GREGORIAN
METHOD:PUBLISH
X-WR-TIMEZONE','EUROPE/BERLIN:
BEGIN:VEVENT
UID:20260419T205926CEST-0839Af8P7J@www.rapperswil-be.ch
DTSTAMP:20260419T185926Z
DESCRIPTION:Klicken Sie auf den folgenden Link\, um weitere Informationen z
 ur Veranstaltung zu erhalten:\nhttp://www.rapperswil-be.ch/de/abfallwirtsc
 haft/abfallkalender/detail/detail.php?i=271
DTSTART:20260901T000000
LOCATION:
SUMMARY:Hauskehricht
END:VEVENT
END:VCALENDAR
