BEGIN:VCALENDAR
VERSION:2.0
PRODID:-//www.rapperswil-be.ch//NONSGML kigkonsult.se ICALCREATOR_VERSION//
CALSCALE:GREGORIAN
METHOD:PUBLISH
X-WR-TIMEZONE','EUROPE/BERLIN:
BEGIN:VEVENT
UID:20260419T194107CEST-1484XHa1b6@www.rapperswil-be.ch
DTSTAMP:20260419T174107Z
DESCRIPTION:Klicken Sie auf den folgenden Link\, um weitere Informationen z
 ur Veranstaltung zu erhalten:\nhttp://www.rapperswil-be.ch/de/abfallwirtsc
 haft/abfallkalender/detail/detail.php?i=259
DTSTART:20260714T000000
LOCATION:
SUMMARY:Hauskehricht
END:VEVENT
END:VCALENDAR
